BEGIN:VCALENDAR
VERSION:2.0
PRODID:-//Emergenza &amp; Sicurezza - ECPv6.14.1//NONSGML v1.0//EN
CALSCALE:GREGORIAN
METHOD:PUBLISH
X-WR-CALNAME:Emergenza &amp; Sicurezza
X-ORIGINAL-URL:https://www.emergenzaesicurezza.it
X-WR-CALDESC:Eventi per Emergenza &amp; Sicurezza
REFRESH-INTERVAL;VALUE=DURATION:PT1H
X-Robots-Tag:noindex
X-PUBLISHED-TTL:PT1H
BEGIN:VTIMEZONE
TZID:Europe/Paris
BEGIN:DAYLIGHT
TZOFFSETFROM:+0100
TZOFFSETTO:+0200
TZNAME:CEST
DTSTART:20260329T010000
END:DAYLIGHT
BEGIN:STANDARD
TZOFFSETFROM:+0200
TZOFFSETTO:+0100
TZNAME:CET
DTSTART:20261025T010000
END:STANDARD
END:VTIMEZONE
BEGIN:VEVENT
DTSTART;TZID=Europe/Paris:20260421T180000
DTEND;TZID=Europe/Paris:20260421T230000
DTSTAMP:20260421T022210
CREATED:20260327T053247Z
LAST-MODIFIED:20260327T053247Z
UID:5979-1776794400-1776812400@www.emergenzaesicurezza.it
SUMMARY:Corso BLSD Adulto Bambino Infante 21 Aprile 2026
DESCRIPTION:CORSO RISERVATO  \nAss. Scout C.N.G.E.I. – Catania \n 
URL:https://www.emergenzaesicurezza.it/eventi/corso-blsd-adulto-bambino-infante-21-aprile-2026/
LOCATION:Aule Didattiche in via Carnazza 8 Tremestieri Etneo (CT)
CATEGORIES:BLSD e PBLSD
END:VEVENT
END:VCALENDAR